BEGIN:VCALENDAR
VERSION:2.0
PRODID:-//Tukios.com/
BEGIN:VEVENT
UID:0fab7a8f-cb6a-4576-a7d2-f22ad0151c29@www.metcalfeshaver.com
DTSTAMP:20260420T215631Z
DTSTART:20260423T210000Z
DTEND:20260423T230000Z
SUMMARY:Visitation
DESCRIPTION:
URL:https://www.metcalfeshaver.com/obituaries/william-lowe-jr
LOCATION:Metcalfe Shaver Kopcza Funeral Home, Inc. 504 Wyoming Ave.  
	Wyoming PA 18644
GEO:41.3086153;-75.8407083
END:VEVENT
END:VCALENDAR