BEGIN:VCALENDAR
VERSION:2.0
PRODID:-//Tukios.com/
BEGIN:VEVENT
UID:b93ee678-eb7d-4f3e-b58c-445fac9b7367@www.metcalfeshaver.com
DTSTAMP:20260420T231459Z
DTSTART:20260424T154500Z
DTEND:20260424T160000Z
SUMMARY:Interment
DESCRIPTION:
URL:https://www.metcalfeshaver.com/obituaries/william-fetch
LOCATION:Denison Cemetery 88 Dennison Street  Swoyersville PA 18704
GEO:41.3002735;-75.8641688
END:VEVENT
END:VCALENDAR