BEGIN:VCALENDAR
VERSION:2.0
PRODID:-//Tukios.com/
BEGIN:VEVENT
UID:e4b20fa9-dbc5-4f65-9aa8-b98ba685b1d9@www.metcalfeshaver.com
DTSTAMP:20260420T231109Z
DTSTART:20260424T150000Z
DTEND:20260424T160000Z
SUMMARY:Mass
DESCRIPTION:
URL:https://www.metcalfeshaver.com/obituaries/william-fetch
LOCATION:St. Anthonys of Padua Church of Corpus Christi Parish 224 
	Memorial Street  Exeter PA 18643
GEO:41.3232938;-75.8100132
END:VEVENT
END:VCALENDAR