BEGIN:VCALENDAR
VERSION:2.0
PRODID:-//Tukios.com/
BEGIN:VEVENT
UID:bd76c009-45f6-451d-b77f-4fef4dd05f56@www.metcalfeshaver.com
DTSTAMP:20260420T230328Z
DTSTART:20260424T140000Z
DTEND:20260424T150000Z
SUMMARY:Visitation
DESCRIPTION:
URL:https://www.metcalfeshaver.com/obituaries/william-fetch
LOCATION:St. Anthonys of Padua Church of Corpus Christi Parish 224 
	Memorial Street  Exeter PA 18643
GEO:41.3232938;-75.8100132
END:VEVENT
END:VCALENDAR